BEGIN:VCALENDAR
VERSION:2.0
PRODID:-//eventon.com NONSGML v1.0//EN
BEGIN:VEVENT
UID:69e8fc9b9328e
DTSTAMP:20260422T165139
DTSTART:20251011T190000Z
DTEND:20251011T213000Z
TZID:Europe/London
LOCATION:Chandler's House 27 Church Sq
SUMMARY:Briana Corrigan
DESCRIPTION: With a voice that “could melt icebergs at 50 paces” (VOX)\,  Briana Corrigan of The Beautiful South has returned to the stage after a 10-year hiatus with 4 hugely successful and largely sold-out tours throughout the UK and IRELAND already completed\,  a new album in the pipeline and a series[..]\nhttps://www.rathfrilandregeneration.org/events/briana-corrigan
URL:https://www.rathfrilandregeneration.org/events/briana-corrigan
END:VEVENT
END:VCALENDAR