BEGIN:VCALENDAR
VERSION:2.0
PRODID:-//eventon.com NONSGML v1.0//EN
BEGIN:VEVENT
UID:69e8e52136c3f
DTSTAMP:20260422T151129
DTSTART:20250830T190000Z
DTEND:20250830T213000Z
TZID:Europe/London
LOCATION:Chandler's House 27 Church Sq
SUMMARY:Ultan Conlon
DESCRIPTION: Ultan Conlon: Captivating Audiences\,  One Song at a Time Ultan Conlon\,  Galway based\,  internationally acclaimed and with a voice as rich as his storytelling\,  is one of Ireland’s finest singer-songwriters\,  captivating audiences from Kilnamartyra to Los Angeles and beyond. His poetic lyrics\,  soaring melodies\,  and unmistakable voice have earned admiration[..]\nhttps://www.rathfrilandregeneration.org/events/ultan-conlon
URL:https://www.rathfrilandregeneration.org/events/ultan-conlon
END:VEVENT
END:VCALENDAR