BEGIN:VCALENDAR
VERSION:2.0
PRODID:-//eventon.com NONSGML v1.0//EN
BEGIN:VEVENT
UID:69e8cfc46a17a
DTSTAMP:20260422T134020
DTSTART:20250705T190000Z
DTEND:20250705T210000Z
TZID:Europe/London
LOCATION:Chandler's House 27 Church Sq
SUMMARY:"Hill Street Blues" Mini Blues Festival
DESCRIPTION: BackBone Blues Band [B4 Music productions] have been treading the musical boards for over 40 years playing their very own brand of soul and blues. Currently the band ranges from a 6 to a 9 piece line up. The BackBone features Raymie McEvoy on lead vocals & harmonica\,  Stevie Clarke[..]\nhttps://www.rathfrilandregeneration.org/events/hill-street-blues-mini-blues-festival-2
URL:https://www.rathfrilandregeneration.org/events/hill-street-blues-mini-blues-festival-2
END:VEVENT
END:VCALENDAR