BEGIN:VCALENDAR
VERSION:2.0
PRODID:-//eventon.com NONSGML v1.0//EN
BEGIN:VEVENT
UID:69e8d0191a66b
DTSTAMP:20260422T134145
DTSTART:20250704T190000Z
DTEND:20250704T210000Z
TZID:Europe/London
LOCATION:Chandler's House 27 Church Sq
SUMMARY:"Hill Street Blues" Mini Blues Festival
DESCRIPTION: Ronnie Greer Band and Friends Award winning blues guitar legend Ronnie Greer’s distinctive guitar style is critically acclaimed as world class. So is his all star band\,  which he brings for the first time to Chandlers House. Joining Ronnie in tonight’s line up are Anthony Toner\,  vocals and guitar\,  Nick[..]\nhttps://www.rathfrilandregeneration.org/events/hill-street-blues-mini-blues-festival
URL:https://www.rathfrilandregeneration.org/events/hill-street-blues-mini-blues-festival
END:VEVENT
END:VCALENDAR