BEGIN:VCALENDAR
VERSION:2.0
PRODID:-//eventon.com NONSGML v1.0//EN
BEGIN:VEVENT
UID:69e8e7422699e
DTSTAMP:20260422T152034
DTSTART:20251104T100000Z
DTEND:20251104T120000Z
TZID:Europe/London
LOCATION:Rathfriland Regeneration HQ 27 Church Square\,  Rathfriland\,  BT34 5PT
SUMMARY:Hearing Aid Support Group
DESCRIPTION: There will be a hearing aid support group at the community Hub\,  25 Church Square\,  Rathfriland on Tuesday 4th November 10.00am &#8211; 12.00pm.\nhttps://www.rathfrilandregeneration.org/events/hearing-aid-support-group-4
URL:https://www.rathfrilandregeneration.org/events/hearing-aid-support-group-4
END:VEVENT
END:VCALENDAR