BEGIN:VCALENDAR
VERSION:2.0
PRODID:-//eventon.com NONSGML v1.0//EN
BEGIN:VEVENT
UID:69e8e8e48d670
DTSTAMP:20260422T152732
DTSTART:20250111T190000Z
DTEND:20250111T220000Z
TZID:Europe/London
LOCATION:Chandler's House 27 Church Sq
SUMMARY:Dinner Evening (Martina)
DESCRIPTION: Dinner Evening (Martina)\nhttps://www.rathfrilandregeneration.org/events/dinner-evening-martina
URL:https://www.rathfrilandregeneration.org/events/dinner-evening-martina
END:VEVENT
END:VCALENDAR