BEGIN:VCALENDAR
VERSION:2.0
PRODID:-//eventon.com NONSGML v1.0//EN
BEGIN:VEVENT
UID:69e8cfda38add
DTSTAMP:20260422T134042
DTSTART:20250413T190000Z
DTEND:20250413T210000Z
TZID:Europe/London
LOCATION:Chandler's House 27 Church Sq
SUMMARY:The Nanci Griffith Songbook
DESCRIPTION: The Nanci Griffith Songbook\nhttps://www.rathfrilandregeneration.org/events/ulster-orchestra-on-your-doorstep
URL:https://www.rathfrilandregeneration.org/events/ulster-orchestra-on-your-doorstep
END:VEVENT
END:VCALENDAR