BEGIN:VCALENDAR
VERSION:2.0
PRODID:-//eventon.com NONSGML v1.0//EN
BEGIN:VEVENT
UID:69e9211a480bd
DTSTAMP:20260422T192722
DTSTART:20250308T200000Z
DTEND:20250308T223000Z
TZID:Europe/London
LOCATION:Chandler's House 27 Church Sq
SUMMARY:Donal O'Connor\,  Mary Dillon & Neil Martin
DESCRIPTION: Donal O'Connor\,  Mary Dillon & Neil Martin\nhttps://www.rathfrilandregeneration.org/events/donal-oconnor-mary-dillon-neil-martin
URL:https://www.rathfrilandregeneration.org/events/donal-oconnor-mary-dillon-neil-martin
END:VEVENT
END:VCALENDAR