BEGIN:VCALENDAR
VERSION:2.0
PRODID:-//eventon.com NONSGML v1.0//EN
BEGIN:VEVENT
UID:69e9398aa26fd
DTSTAMP:20260422T211138
DTSTART:20250219T190000Z
DTEND:20250219T210000Z
TZID:Europe/London
LOCATION:Rathfriland Regeneration HQ 27 Church Square\,  Rathfriland\,  BT34 5PT
SUMMARY:Rise and Shine Herbal Healing
DESCRIPTION: For over 30 years my career has been in education and youth services and I’m still passionate about sharing information and knowledge about herbs that grow in our hedges and fields. I am grateful for the special way nature offers us the medicine we need\,  when we need it. My[..]\nhttps://www.rathfrilandregeneration.org/events/rise-and-shine-herbal-healing-2
URL:https://www.rathfrilandregeneration.org/events/rise-and-shine-herbal-healing-2
END:VEVENT
END:VCALENDAR