BEGIN:VCALENDAR
VERSION:2.0
PRODID:-//eventon.com NONSGML v1.0//EN
BEGIN:VEVENT
UID:69e8cfe0ee04c
DTSTAMP:20260422T134048
DTSTART:20250126T200000Z
DTEND:20250126T220000Z
TZID:Europe/London
LOCATION:Chandler's House 27 Church Sq
SUMMARY:Dirk & Amelia Powell
DESCRIPTION: Dirk and Amelia Powell are a father/daughter duo from Southwest Louisiana. Dirk is well-known to Irish audiences from his performances with Transatlantic Sessions and his work with artists such as Joan Baez\,  Rhiannon Giddens\,  Eric Clapton\,  and many more. He is regarded as a champion of rural Americana\,  with a[..]\nhttps://www.rathfrilandregeneration.org/events/dirk-amelia-powell-2
URL:https://www.rathfrilandregeneration.org/events/dirk-amelia-powell-2
END:VEVENT
END:VCALENDAR