BEGIN:VCALENDAR
VERSION:2.0
PRODID:-//eventon.com NONSGML v1.0//EN
BEGIN:VEVENT
UID:69e8e6ebebf5a
DTSTAMP:20260422T151907
DTSTART:20250118T200000Z
DTEND:20250118T220000Z
TZID:Europe/London
LOCATION:Chandler's House 27 Church Sq
SUMMARY:Dave Gunning & Rose Morrison
DESCRIPTION: Dave Gunning & Rose Morrison: An Evening of Nova Scotian Folk Hailing from Nova Scotia\,  Canada\,  Dave Gunning and Rose Morrison bring their rich musical traditions to the stage\,  blending storytelling\,  humor\,  and extraordinary musicianship. With fourteen albums to his credit\,  Dave Gunning has built an impressive career as an[..]\nhttps://www.rathfrilandregeneration.org/events/dave-gunning-rose-morrison
URL:https://www.rathfrilandregeneration.org/events/dave-gunning-rose-morrison
END:VEVENT
END:VCALENDAR