BEGIN:VCALENDAR
VERSION:2.0
PRODID:-//eventon.com NONSGML v1.0//EN
BEGIN:VEVENT
UID:69e8e8ff42668
DTSTAMP:20260422T152759
DTSTART:20251206T200000Z
DTEND:20251206T220000Z
TZID:Europe/London
LOCATION:Chandler's House 27 Church Sq
SUMMARY:Christmas Classics
DESCRIPTION: An evening of classical and Christmas songs from 4 local singers Fiona Flynn\,  Lauren Mc Cann \,  Jonathan Reynolds\,  Conor Sands accompanied by pianist Danny O&#8217;Neill. Having graduated with three First-Class Honours Degrees\,  Soprano Fiona Flynn established her national award-winning music school Flynn Performing Arts in Newry. On stage\,  Fiona&#8217;s highlights include the Voice of[..]\nhttps://www.rathfrilandregeneration.org/events/christmas-classical-recital
URL:https://www.rathfrilandregeneration.org/events/christmas-classical-recital
END:VEVENT
END:VCALENDAR