BEGIN:VCALENDAR
VERSION:2.0
PRODID:-//eventon.com NONSGML v1.0//EN
BEGIN:VEVENT
UID:69e8cf883d791
DTSTAMP:20260422T133920
DTSTART:20251128T180000Z
DTEND:20251128T203000Z
TZID:Europe/London
LOCATION:Chandler's House 27 Church Sq
SUMMARY:Rathfriland Regeneration Christmas Fair 2025
DESCRIPTION: Details to follow&#8230;\nhttps://www.rathfrilandregeneration.org/events/rathfriland-regeneration-christmas-lights-switch-on
URL:https://www.rathfrilandregeneration.org/events/rathfriland-regeneration-christmas-lights-switch-on
END:VEVENT
END:VCALENDAR