BEGIN:VCALENDAR
VERSION:2.0
PRODID:-//eventon.com NONSGML v1.0//EN
BEGIN:VEVENT
UID:69e8e96ca178e
DTSTAMP:20260422T152948
DTSTART:20251108T100000Z
DTEND:20251108T160000Z
TZID:Europe/London
LOCATION:Rathfriland Regeneration HQ 27 Church Square\,  Rathfriland\,  BT34 5PT
SUMMARY:Rathfriland Regeneration Artisan Craft & Food Market 2025
DESCRIPTION: Details to follow&#8230;\nhttps://www.rathfrilandregeneration.org/events/rathfriland-regeneration-artisan-craft-food-market
URL:https://www.rathfrilandregeneration.org/events/rathfriland-regeneration-artisan-craft-food-market
END:VEVENT
END:VCALENDAR