BEGIN:VCALENDAR
VERSION:2.0
PRODID:-//eventon.com NONSGML v1.0//EN
BEGIN:VEVENT
UID:69e8e023dc889
DTSTAMP:20260422T145011
DTSTART:20260430T180000Z
DTEND:20260430T200000Z
TZID:Europe/London
LOCATION:Rathfriland Regeneration HQ 27 Church Square\,  Rathfriland\,  BT34 5PT
SUMMARY:Rathfriland Vintage Club
DESCRIPTION: Rathfriland Vintage Club\nhttps://www.rathfrilandregeneration.org/events/rathfriland-vintage-club/var/ri-13.l-L1
URL:https://www.rathfrilandregeneration.org/events/rathfriland-vintage-club/var/ri-13.l-L1
END:VEVENT
END:VCALENDAR