BEGIN:VCALENDAR
VERSION:2.0
PRODID:-//eventon.com NONSGML v1.0//EN
BEGIN:VEVENT
UID:69e8fe7f118c5
DTSTAMP:20260422T165943
DTSTART:20250925T180000Z
DTEND:20250925T200000Z
TZID:Europe/London
LOCATION:Rathfriland Regeneration HQ 27 Church Square\,  Rathfriland\,  BT34 5PT
SUMMARY:Rathfriland Vintage Club
DESCRIPTION: Rathfriland Vintage Club\nhttps://www.rathfrilandregeneration.org/events/rathfriland-vintage-club
URL:https://www.rathfrilandregeneration.org/events/rathfriland-vintage-club
END:VEVENT
END:VCALENDAR