BEGIN:VCALENDAR
VERSION:2.0
PRODID:-//eventon.com NONSGML v1.0//EN
BEGIN:VEVENT
UID:69e8fb5755672
DTSTAMP:20260422T164615
DTSTART:20230905T100000Z
DTEND:20230905T120000Z
TZID:Europe/London
LOCATION:
SUMMARY:Hearing Aid Support Group
DESCRIPTION: There will be a hearing aid support group at the community Hub\,  25 Church Square\,  Rathfriland on Tuesday at 11.00am.\nhttps://www.rathfrilandregeneration.org/events/hearing-aid-support-group
URL:https://www.rathfrilandregeneration.org/events/hearing-aid-support-group
END:VEVENT
END:VCALENDAR