BEGIN:VCALENDAR
VERSION:2.0
PRODID:-//eventon.com NONSGML v1.0//EN
BEGIN:VEVENT
UID:69e8cfe0f120f
DTSTAMP:20260422T134048
DTSTART:20251122T200000Z
DTEND:20251122T223000Z
TZID:Europe/London
LOCATION:Chandler's House 27 Church Sq
SUMMARY:Anthony Toner
DESCRIPTION: Anthony Toner returns to the intimate and welcoming setting of Chandler’s House in Rathfriland on Saturday November 22 for his first solo acoustic show in a couple of years – and with an armful of new songs to celebrate. Anthony has appeared in Rathfriland on a number of occasions with[..]\nhttps://www.rathfrilandregeneration.org/events/anthony-toner
URL:https://www.rathfrilandregeneration.org/events/anthony-toner
END:VEVENT
END:VCALENDAR