BEGIN:VCALENDAR
VERSION:2.0
PRODID:-//eventon.com NONSGML v1.0//EN
BEGIN:VEVENT
UID:69e92179a4268
DTSTAMP:20260422T192857
DTSTART:20250406T140000Z
DTEND:20250406T160000Z
TZID:Europe/London
LOCATION:Chandler's House 27 Church Sq
SUMMARY:The Uplifted Gospel Choir
DESCRIPTION: The Uplifted Gospel Choir with Special Guest Emily Flanagan\nhttps://www.rathfrilandregeneration.org/events/the-uplifted-gospel-choir
URL:https://www.rathfrilandregeneration.org/events/the-uplifted-gospel-choir
END:VEVENT
END:VCALENDAR