BEGIN:VCALENDAR
VERSION:2.0
PRODID:-//eventon.com NONSGML v1.0//EN
BEGIN:VEVENT
UID:69e9382b59d6b
DTSTAMP:20260422T210547
DTSTART:20230916T190000Z
DTEND:20230916T213000Z
TZID:Europe/London
LOCATION:Chandler's House 27 Church Sq
SUMMARY:White Horse Guitar Club
DESCRIPTION: Following their Sold Out tour earlier this year\,  The White Horse Guitar Club will be back on the road again in September/October with their second tour this year\,  the ‘Wide River’ Irish Tour\,  and a new single ‘Cash on the Barrel Head’.The band received huge accolades from the Irish music[..]\nhttps://www.rathfrilandregeneration.org/events/white-horse-guitar-club
URL:https://www.rathfrilandregeneration.org/events/white-horse-guitar-club
END:VEVENT
END:VCALENDAR